BEGIN:VCALENDAR
VERSION:2.0
PRODID:-//Crofton Community Centre Society - ECPv5.1.1//NONSGML v1.0//EN
CALSCALE:GREGORIAN
METHOD:PUBLISH
X-WR-CALNAME:Crofton Community Centre Society
X-ORIGINAL-URL:http://croftoncommunitycentre.ca
X-WR-CALDESC:Events for Crofton Community Centre Society
BEGIN:VTIMEZONE
TZID:America/Vancouver
BEGIN:DAYLIGHT
TZOFFSETFROM:-0800
TZOFFSETTO:-0700
TZNAME:PDT
DTSTART:20170312T100000
END:DAYLIGHT
BEGIN:STANDARD
TZOFFSETFROM:-0700
TZOFFSETTO:-0800
TZNAME:PST
DTSTART:20171105T090000
END:STANDARD
END:VTIMEZONE
BEGIN:VEVENT
DTSTART;VALUE=DATE:20171210
DTEND;VALUE=DATE:20171211
DTSTAMP:20260421T113354
CREATED:20170825T010939Z
LAST-MODIFIED:20171124T210130Z
UID:303-1512864000-1512950399@croftoncommunitycentre.ca
SUMMARY:Crofton For Christmas Parade and Carol Service
DESCRIPTION:Stay tuned for more information on this event. \n
URL:http://croftoncommunitycentre.ca/event/crofton-for-christmas-parade-and-carol-service/
END:VEVENT
END:VCALENDAR