BEGIN:VCALENDAR
VERSION:2.0
PRODID:-//Crofton Community Centre Society - ECPv5.1.1//NONSGML v1.0//EN
CALSCALE:GREGORIAN
METHOD:PUBLISH
X-WR-CALNAME:Crofton Community Centre Society
X-ORIGINAL-URL:http://croftoncommunitycentre.ca
X-WR-CALDESC:Events for Crofton Community Centre Society
BEGIN:VTIMEZONE
TZID:America/Vancouver
BEGIN:DAYLIGHT
TZOFFSETFROM:-0800
TZOFFSETTO:-0700
TZNAME:PDT
DTSTART:20250309T100000
END:DAYLIGHT
BEGIN:STANDARD
TZOFFSETFROM:-0700
TZOFFSETTO:-0800
TZNAME:PST
DTSTART:20251102T090000
END:STANDARD
END:VTIMEZONE
BEGIN:VEVENT
DTSTART;TZID=America/Vancouver:20251009T190000
DTEND;TZID=America/Vancouver:20251009T210000
DTSTAMP:20260420T094319
CREATED:20251008T011931Z
LAST-MODIFIED:20251008T011931Z
UID:928-1760036400-1760043600@croftoncommunitycentre.ca
SUMMARY:CCCS monthly meeting is Thursday October 9th at 7pm at the hall.
DESCRIPTION:Next CCCS monthly meeting is Thursday\, October 9th at 7pm at the hall at the top of Roberts Street across from the Crofton fire hall. \n  \nHope to see you there! \n
URL:http://croftoncommunitycentre.ca/event/cccs-monthly-meeting-is-thursday-october-9th-at-7pm-at-the-hall/
END:VEVENT
END:VCALENDAR