BEGIN:VCALENDAR
VERSION:2.0
PRODID:-//Crofton Community Centre Society - ECPv5.1.1//NONSGML v1.0//EN
CALSCALE:GREGORIAN
METHOD:PUBLISH
X-WR-CALNAME:Crofton Community Centre Society
X-ORIGINAL-URL:http://croftoncommunitycentre.ca
X-WR-CALDESC:Events for Crofton Community Centre Society
BEGIN:VTIMEZONE
TZID:America/Vancouver
BEGIN:DAYLIGHT
TZOFFSETFROM:-0800
TZOFFSETTO:-0700
TZNAME:PDT
DTSTART:20240310T100000
END:DAYLIGHT
BEGIN:STANDARD
TZOFFSETFROM:-0700
TZOFFSETTO:-0800
TZNAME:PST
DTSTART:20241103T090000
END:STANDARD
END:VTIMEZONE
BEGIN:VEVENT
DTSTART;TZID=America/Vancouver:20240509T190000
DTEND;TZID=America/Vancouver:20240509T210000
DTSTAMP:20260421T083733
CREATED:20240503T225833Z
LAST-MODIFIED:20240503T230016Z
UID:766-1715281200-1715288400@croftoncommunitycentre.ca
SUMMARY:CCCS May Monthly Meeting\, Thursday\, May 9th at the hall at 7pm.
DESCRIPTION:The Crofton Community Centre Society’s monthly meeting \nThursday\, May 9th at 7pm at the community hall located at the top of the Roberts Street hill across from the Fire Hall in Crofton. \nHope to see you there. \n  \n  \n
URL:http://croftoncommunitycentre.ca/event/cccs-may-monthly-meeting-thursday-may-9th-at-the-hall-at-7pm/
END:VEVENT
END:VCALENDAR