BEGIN:VCALENDAR
VERSION:2.0
PRODID:-//Crofton Community Centre Society - ECPv5.1.1//NONSGML v1.0//EN
CALSCALE:GREGORIAN
METHOD:PUBLISH
X-WR-CALNAME:Crofton Community Centre Society
X-ORIGINAL-URL:http://croftoncommunitycentre.ca
X-WR-CALDESC:Events for Crofton Community Centre Society
BEGIN:VTIMEZONE
TZID:America/Vancouver
BEGIN:DAYLIGHT
TZOFFSETFROM:-0800
TZOFFSETTO:-0700
TZNAME:PDT
DTSTART:20230312T100000
END:DAYLIGHT
BEGIN:STANDARD
TZOFFSETFROM:-0700
TZOFFSETTO:-0800
TZNAME:PST
DTSTART:20231105T090000
END:STANDARD
END:VTIMEZONE
BEGIN:VEVENT
DTSTART;VALUE=DATE:20230703
DTEND;VALUE=DATE:20230706
DTSTAMP:20260421T134920
CREATED:20230629T230319Z
LAST-MODIFIED:20230629T230319Z
UID:674-1688342400-1688601599@croftoncommunitycentre.ca
SUMMARY:BC Bike Race 2023 happens July 3 - 5  in the Cowichan Valley!
DESCRIPTION:Welcome BC Bike Race and riders from 35 countries! \nLet’s ride! \n\n\nBasecamp in Crofton\, Cowichan Valley\nRaces: \n\n\n\n\nJuly 3rd – Day 1 – Prologue Maple Mountain\nJuly 4th – Day 2 – Maple Mountain\nJuly 5th – Day 3 – Mount Tzouhalem \n  \n\n\n  \n
URL:http://croftoncommunitycentre.ca/event/bc-bike-race-2023-happens-july-3-5-in-the-cowichan-valley/
END:VEVENT
END:VCALENDAR