BEGIN:VCALENDAR
VERSION:2.0
PRODID:-//Crofton Community Centre Society - ECPv5.1.1//NONSGML v1.0//EN
CALSCALE:GREGORIAN
METHOD:PUBLISH
X-WR-CALNAME:Crofton Community Centre Society
X-ORIGINAL-URL:http://croftoncommunitycentre.ca
X-WR-CALDESC:Events for Crofton Community Centre Society
BEGIN:VTIMEZONE
TZID:America/Vancouver
BEGIN:DAYLIGHT
TZOFFSETFROM:-0800
TZOFFSETTO:-0700
TZNAME:PDT
DTSTART:20260308T100000
END:DAYLIGHT
BEGIN:STANDARD
TZOFFSETFROM:-0700
TZOFFSETTO:-0800
TZNAME:PST
DTSTART:20261101T090000
END:STANDARD
END:VTIMEZONE
BEGIN:VEVENT
DTSTART;TZID=America/Vancouver:20260429T190000
DTEND;TZID=America/Vancouver:20260429T210000
DTSTAMP:20260420T110958
CREATED:20260416T233107Z
LAST-MODIFIED:20260416T233107Z
UID:976-1777489200-1777496400@croftoncommunitycentre.ca
SUMMARY:Annual AGM Wednesday April 29th at 7pm at the Crofton Community Hall\,  8104 Musgrave Street\, Crofton\, BC V0R 1R0
DESCRIPTION:Crofton Community Centre Society Annual AGM\nWednesday\, April 29th at 7pm at the Crofton Community Hall\, 8104 Musgrave Street\, Crofton\, BC V0R 1R0\n
URL:http://croftoncommunitycentre.ca/event/annual-agm-wednesday-april-29th-at-7pm-at-the-crofton-community-hall-8104-musgrave-street-crofton-bc-v0r-1r0/
END:VEVENT
END:VCALENDAR